BEGIN:VCALENDAR
VERSION:2.0
PRODID:-//ConVerve GmbH//B2BMatch//EN
METHOD:PUBLISH
BEGIN:VEVENT
DTSTART:20250408T100000Z
DTEND:20250411T020000Z
SUMMARY:Visit Iceland Roadshow 2025
LOCATION:Boston, Minneapolis, Nashville
DESCRIPTION:
UID:0000001
DTSTAMP:20180215T145139Z
END:VEVENT
END:VCALENDAR
